BEGIN:VCALENDAR
VERSION:2.0
PRODID: -//Q4 Inc.//EN
METHOD:PUBLISH
BEGIN:VTIMEZONE
TZID:America/New_York
X-LIC-LOCATION:America/New_York
BEGIN:DAYLIGHT
TZOFFSETFROM:-0500
TZOFFSETTO:-0400
TZNAME:EDT
DTSTART:19700308T020000
RRULE:FREQ=YEARLY;BYMONTH=3;BYDAY=2SU
END:DAYLIGHT
BEGIN:STANDARD
TZOFFSETFROM:-0400
TZOFFSETTO:-0500
TZNAME:EST
DTSTART:19701101T020000
RRULE:FREQ=YEARLY;BYMONTH=11;BYDAY=1SU
END:STANDARD
END:VTIMEZONE
BEGIN:VEVENT
ORGANIZER:MAILTO:investor.relations@harley-davidson.com
DTSTART;TZID="America/New_York":20260416T100000
DTEND;TZID="America/New_York":20260416T110000
LOCATION:
UID:e7cb625a-c804-4eda-bcb1-a054f33092cc
DTSTAMP:20260420T114839
SUMMARY:Investor Discussion of Harley-Davidson Financial Services Business
DESCRIPTION: View More Information: https://investor.harley-davidson.com/events-and-presentations/events/event-details/2026/Investor-Discussion-of-Harley-Davidson-Financial-Services-Business/default.aspx
URL;VALUE=URI:https://investor.harley-davidson.com/events-and-presentations/events/event-details/2026/Investor-Discussion-of-Harley-Davidson-Financial-Services-Business/default.aspx
PRIORITY:5
CLASS:PUBLIC
END:VEVENT
END:VCALENDAR
